Workbook

Sheet Ciudad
A1: CodigoCiudad | B1: CodigoDestino | C1: NombreCiudad
A2: 1 | B2: 1 | C2: Praga
A3: 2 | B3: 1 | C3: Austria
A4: 3 | B4: 1 | C4: Viena
A5: 4 | B5: 1 | C5: Berlín
A6: 5 | B6: 1 | C6: Bratislava
A7: 6 | B7: 2 | C7: Marsella
A8: 7 | B8: 2 | C8: Toulouse
A9: 8 | B9: 2 | C9: Valencia
A10: 9 | B10: 2 | C10: Alicante
A11: 10 | B11: 3 | C11: Lille
A12: 11 | B12: 3 | C12: Oslo
A13: 12 | B13: 4 | C13: Barranquilla
... A26: 25 | B26: 9 | C26: Bali

Sheet Escalas
A1: CodigoEscala | B1: NombreEscala
A2: 1 | B2: Una Escala
A3: 2 | B3: Sin Escala
A4: 3 | B4: Dos escalas

Sheet DEStino
A1: CodigoDestino | B1: CodigoEscala | C1: NombreSubcategoria
A2: 1 | B2: 1 | C2: EuropaCentral
A3: 2 | B3: 1 | C3: EuropaMediterránea
A4: 3 | B4: 1 | C4: EuropaNorte
A5: 4 | B5: 1 | C5: AmericaSur
A6: 5 | B6: 2 | C6: AmericaNorte
A7: 6 | B7: 2 | C7: Oceania
A8: 7 | B8: 2 | C8: OrienteMedio
A9: 8 | B9: 3 | C9: Africa
A10: 9 | B10: 3 | C10: Asia

Sheet Sucursal
A1: CodigoSucursal | B1: NombreSucursal | C1: DirecciónSucursal | D1: CiudadSucursal | E1: CodigoPostalSucursal
A2: 1 | B2: Agencia de Viajes Salvatore | C2: C/ No me acuerdo | D2: Pamplona | E2: 31001
A3: 2 | B3: Viajes Marsans | C3: C/ Tampoco me acuerdo | D3: Madrid | E3: 28021
A4: 3 | B4: Halcon Viajes | C4: Avda. Las palmeras | D4: Sevilla | E4: 41450
A5: 4 | B5: Viajes el Corte Inglés | C5: Avda. Central | D5: Madrid | E5: 28181
A6: 5 | B6: Viaje Azul Marino | C6: Avda. Las Palomas | D6: Barcelona | E6: 08040
A7: 6 | B7: Nautalia | C7: Avda. Las Gaviotas | D7: Ibiza | E7: 07800

Sheet Ventas
A1: FechaVenta | B1: CodigoSucursal | C1: CodigoCiudad | D1: PrecioVentaProducto | E1: NombreSucursal | F1: NombreCiudad | G1: CodigoDestino | H1: NombreDestino | I1: Codigoescala | J1: NombreEscala
A2: 42217 | B2: 1 | C2: 11 | D2: 4110 | E2: Agencia de Viajes Salvatore | F2: Oslo | G2: 3 | H2: =VLOOKUP(G2,DEStino!A:C,3,FALSE) -> EuropaNorte | I2: =VLOOKUP(G2,DEStino!A:C,2,FALSE) -> 1 | J2: =VLOOKUP(I2,Escalas!A:B,2,FALSE) -> Una Escala
A3: 42733 | B3: 6 | C3: 2 | D3: 190 | E3: Nautalia | F3: Austria | G3: 1 | H3: =VLOOKUP(G3,DEStino!A:C,3,FALSE) -> EuropaCentral | I3: =VLOOKUP(G3,DEStino!A:C,2,FALSE) -> 1 | J3: =VLOOKUP(I3,Escalas!A:B,2,FALSE) -> Una Escala
A4: 42215 | B4: 4 | C4: 17 | D4: 1190 | E4: Viajes el Corte Inglés | F4: Sidney | G4: 6 | H4: =VLOOKUP(G4,DEStino!A:C,3,FALSE) -> Oceania | I4: =VLOOKUP(G4,DEStino!A:C,2,FALSE) -> 2 | J4: =VLOOKUP(I4,Escalas!A:B,2,FALSE) -> Sin Escala
A5: 42833 | B5: 5 | C5: 15 | D5: 1100 | E5: Viaje Azul Marino | F5: Nueva orleans | G5: 5 | H5: =VLOOKUP(G5,DEStino!A:C,3,FALSE) -> AmericaNorte | I5: =VLOOKUP(G5,DEStino!A:C,2,FALSE) -> 2 | J5: =VLOOKUP(I5,Escalas!A:B,2,FALSE) -> Sin Escala
A6: 42890 | B6: 2 | C6: 2 | D6: 210 | E6: Viajes Marsans | F6: Austria | G6: 1 | H6: =VLOOKUP(G6,DEStino!A:C,3,FALSE) -> EuropaCentral | I6: =VLOOKUP(G6,DEStino!A:C,2,FALSE) -> 1 | J6: =VLOOKUP(I6,Escalas!A:B,2,FALSE) -> Una Escala
A7: 42331 | B7: 2 | C7: 23 | D7: 840 | E7: Viajes Marsans | F7: Sanghai | G7: 9 | H7: =VLOOKUP(G7,DEStino!A:C,3,FALSE) -> Asia | I7: =VLOOKUP(G7,DEStino!A:C,2,FALSE) -> 3 | J7: =VLOOKUP(I7,Escalas!A:B,2,FALSE) -> Dos escalas
A8: 42369 | B8: 2 | C8: 4 | D8: 1140 | E8: Viajes Marsans | F8: Berlín | G8: 1 | H8: =VLOOKUP(G8,DEStino!A:C,3,FALSE) -> EuropaCentral | I8: =VLOOKUP(G8,DEStino!A:C,2,FALSE) -> 1 | J8: =VLOOKUP(I8,Escalas!A:B,2,FALSE) -> Una Escala
A9: 42516 | B9: 3 | C9: 6 | D9: 10210 | E9: Halcon Viajes | F9: Marsella | G9: 2 | H9: =VLOOKUP(G9,DEStino!A:C,3,FALSE) -> EuropaMediterránea | I9: =VLOOKUP(G9,DEStino!A:C,2,FALSE) -> 1 | J9: =VLOOKUP(I9,Escalas!A:B,2,FALSE) -> Una Escala
A10: 42948 | B10: 2 | C10: 22 | D10: 670 | E10: Viajes Marsans | F10: Casablanca | G10: 8 | H10: =VLOOKUP(G10,DEStino!A:C,3,FALSE) -> Africa | I10: =VLOOKUP(G10,DEStino!A:C,2,FALSE) -> 3 | J10: =VLOOKUP(I10,Escalas!A:B,2,FALSE) -> Dos escalas
A11: 42950 | B11: 1 | C11: 25 | D11: 560 | E11: Agencia de Viajes Salvatore | F11: Bali | G11: 9 | H11: =VLOOKUP(G11,DEStino!A:C,3,FALSE) -> Asia | I11: =VLOOKUP(G11,DEStino!A:C,2,FALSE) -> 3 | J11: =VLOOKUP(I11,Escalas!A:B,2,FALSE) -> Dos escalas
A12: 42204 | B12: 3 | C12: 16 | D12: 1690 | E12: Halcon Viajes | F12: Alberta | G12: 5 | H12: =VLOOKUP(G12,DEStino!A:C,3,FALSE) -> AmericaNorte | I12: =VLOOKUP(G12,DEStino!A:C,2,FALSE) -> 2 | J12: =VLOOKUP(I12,Escalas!A:B,2,FALSE) -> Sin Escala
A13: 42461 | B13: 3 | C13: 25 | D13: 710 | E13: Halcon Viajes | F13: Bali | G13: 9 | H13: =VLOOKUP(G13,DEStino!A:C,3,FALSE) -> Asia | I13: =VLOOKUP(G13,DEStino!A:C,2,FALSE) -> 3 | J13: =VLOOKUP(I13,Escalas!A:B,2,FALSE) -> Dos escalas
... A9999: 42114 | B9999: 5 | C9999: 9 | D9999: 10820 | E9999: Viaje Azul Marino | F9999: Alicante | G9999: 2 | H9999: =VLOOKUP(G9999,DEStino!A:C,3,FALSE) -> EuropaMediterránea | I9999: =VLOOKUP(G9999,DEStino!A:C,2,FALSE) -> 1 | J9999: =VLOOKUP(I9999,Escalas!A:B,2,FALSE) -> Una Escala
